BEGIN:VCALENDAR
VERSION:2.0
PRODID:-//ChamberMaster//Event Calendar 2.0//EN
METHOD:PUBLISH
X-PUBLISHED-TTL:P3D
REFRESH-INTERVAL:P3D
CALSCALE:GREGORIAN
BEGIN:VEVENT
DTSTART:20140503T160000Z
DTEND:20140503T230000Z
X-MICROSOFT-CDO-ALLDAYEVENT:FALSE
SUMMARY:Stained Glass with Julie Prather
DESCRIPTION:Don't miss out on this rare opportunity to make a copper foil stained glass mirror with a local legend and master glass artist.
X-ALT-DESC;FMTTYPE=text/html:Don&#39\;t miss out on this rare opportunity to make a copper foil stained glass mirror with a local legend and master glass artist.
LOCATION:Gallery-One 408 N. Pearl Street Ellensburg Wa 98926
UID:e.40.11301
SEQUENCE:3
DTSTAMP:20260419T130742Z
URL:http://business.kittitascountychamber.com/events/details/stained-glass-with-julie-prather-05-03-2014-11301
END:VEVENT

END:VCALENDAR
