BEGIN:VCALENDAR
VERSION:2.0
PRODID:-//ChamberMaster//Event Calendar 2.0//EN
METHOD:PUBLISH
X-PUBLISHED-TTL:P3D
REFRESH-INTERVAL:P3D
CALSCALE:GREGORIAN
BEGIN:VEVENT
DTSTART:20130716T003000Z
DTEND:20130716T020000Z
X-MICROSOFT-CDO-ALLDAYEVENT:FALSE
SUMMARY:Storefront Design Seminar
DESCRIPTION:Learn the seven essentials of an eye catching and effective storefront with Seanette Corkill from Frontdoor Back. Seanette will join us for a free public presentation at Hal Holmes on July 15 at 5:30 p.m. The presentation will provide tips and tricks for an attractive and profitable retail storefront. Individul consultations will follow on Tuesday and Wednesday. \n\n\n\nFor complete information\, visit http://ellensburgdowntown.org/storefront-design-seminar/
X-ALT-DESC;FMTTYPE=text/html:<span style="color: rgb(69\, 69\, 69)\; line-height: 18.18px\; font-family: Arial\, Helvetica\, sans-serif\; font-size: 14px\;">Learn the seven essentials of an eye catching and effective storefront with Seanette Corkill from Frontdoor Back. Seanette will join us for a free public presentation at Hal Holmes on July 15 at 5:30 p.m. The presentation will provide tips and tricks for an attractive and profitable retail storefront. Individul consultations will follow on Tuesday and Wednesday.&nbsp\;<br />\n<br />\nFor complete information\, visit&nbsp\;</span><a href="http://ellensburgdowntown.org/storefront-design-seminar/">http://ellensburgdowntown.org/storefront-design-seminar/</a>
LOCATION:Hal Homes Center\, 209 N Ruby St
UID:e.40.10401
SEQUENCE:3
DTSTAMP:20260420T050301Z
URL:http://business.kittitascountychamber.com/events/details/storefront-design-seminar-07-15-2013-10401
END:VEVENT

END:VCALENDAR
