BEGIN:VCALENDAR
VERSION:2.0
PRODID:-//ChamberMaster//Event Calendar 2.0//EN
METHOD:PUBLISH
X-PUBLISHED-TTL:P3D
REFRESH-INTERVAL:P3D
CALSCALE:GREGORIAN
BEGIN:VEVENT
DTSTART:20140518T190000Z
DTEND:20140518T230000Z
X-MICROSOFT-CDO-ALLDAYEVENT:FALSE
SUMMARY:Sunday Fun-Days
DESCRIPTION:Join us at Gallery One for our new free Sunday Fun-days for all ages and abilities. Come and make art with us!
X-ALT-DESC;FMTTYPE=text/html:Join us at Gallery One for our new free Sunday Fun-days for all ages and abilities. Come and make art with us!
LOCATION:Gallery-One 408 N. Pearl St Ellensburg\, WA 98926
UID:e.40.11316
SEQUENCE:3
DTSTAMP:20260419T130050Z
URL:http://business.kittitascountychamber.com/events/details/sunday-fun-days-05-18-2014-11316
END:VEVENT

END:VCALENDAR
