BEGIN:VCALENDAR
VERSION:2.0
PRODID:-//ChamberMaster//Event Calendar 2.0//EN
METHOD:PUBLISH
X-PUBLISHED-TTL:P3D
REFRESH-INTERVAL:P3D
CALSCALE:GREGORIAN
BEGIN:VEVENT
DTSTART:20140308T200000Z
DTEND:20140309T010000Z
X-MICROSOFT-CDO-ALLDAYEVENT:FALSE
SUMMARY:Swiftwater Cellars Bridal Showcase
DESCRIPTION:
X-ALT-DESC;FMTTYPE=text/html:
LOCATION:Swiftwater Cellars
UID:e.40.10931
SEQUENCE:3
DTSTAMP:20260419T161636Z
URL:http://business.kittitascountychamber.com/events/details/swiftwater-cellars-bridal-showcase-03-08-2014-10931
END:VEVENT

END:VCALENDAR
