BEGIN:VCALENDAR
VERSION:2.0
PRODID:-//ChamberMaster//Event Calendar 2.0//EN
METHOD:PUBLISH
X-PUBLISHED-TTL:P3D
REFRESH-INTERVAL:P3D
CALSCALE:GREGORIAN
BEGIN:VEVENT
DTSTART:20130309T200000Z
DTEND:20130310T010000Z
X-MICROSOFT-CDO-ALLDAYEVENT:FALSE
SUMMARY:Swiftwater Cellars Bridal Showcase
DESCRIPTION:Come and see the spaces all decorated and set up\, meet potential vendors\, and get ideas for your wedding.
X-ALT-DESC;FMTTYPE=text/html:Come and see the spaces all decorated and set up\, meet potential vendors\, and get ideas for your wedding.
LOCATION:Swiftwater Cellars
UID:e.40.9240
SEQUENCE:3
DTSTAMP:20260420T114125Z
URL:http://business.kittitascountychamber.com/events/details/swiftwater-cellars-bridal-showcase-03-09-2013-9240
END:VEVENT

END:VCALENDAR
