BEGIN:VCALENDAR
VERSION:2.0
PRODID:-//ChamberMaster//Event Calendar 2.0//EN
METHOD:PUBLISH
X-PUBLISHED-TTL:P3D
REFRESH-INTERVAL:P3D
CALSCALE:GREGORIAN
BEGIN:VEVENT
DTSTART;VALUE=DATE:20130818
DTEND;VALUE=DATE:20130819
TRANSP:TRANSPARENT
X-MICROSOFT-CDO-ALLDAYEVENT:TRUE
SUMMARY:Swiftwater Cellars River Rafting Wine Tasting Experience
DESCRIPTION:Join us for Swiftwater Cellars first river rafting wine tasting experience. Space is filling up fast\, make a reservation today by calling (509) 674-6555 or emailing info@swiftwatercellars.com\n\n\n\nTickets are $175 which includes guided rafting by Troutwater Fly & Wine Paired Lunch Created by the executive chef\, Mark Maccherola
X-ALT-DESC;FMTTYPE=text/html:Join us for Swiftwater Cellars first river rafting wine tasting experience. Space is filling up fast\, make a reservation today by calling (509) 674-6555 or emailing info@swiftwatercellars.com<br />\n<br />\nTickets are $175 which includes guided rafting by Troutwater Fly &amp\; Wine Paired Lunch Created by the executive chef\, Mark Maccherola
LOCATION:301 Rope Rider Dr. Cle Elum\, WA 98922
UID:e.40.10430
SEQUENCE:3
DTSTAMP:20260420T032710Z
URL:http://business.kittitascountychamber.com/events/details/swiftwater-cellars-river-rafting-wine-tasting-experience-08-18-2013-10430
END:VEVENT

END:VCALENDAR
