BEGIN:VCALENDAR
VERSION:2.0
PRODID:-//ChamberMaster//Event Calendar 2.0//EN
METHOD:PUBLISH
X-PUBLISHED-TTL:P3D
REFRESH-INTERVAL:P3D
CALSCALE:GREGORIAN
BEGIN:VEVENT
DTSTART:20130528T010000Z
DTEND:20130528T050000Z
X-MICROSOFT-CDO-ALLDAYEVENT:FALSE
SUMMARY:Swing Dance Lessons
DESCRIPTION:Every Monday the CWU Swing Cats has a swing dance lesson. The intermediate lesson starts at 6pm and the beginner lesson starts at 7pm. The lessons are $3 each and you DO NOT have to be a Central student to come and have a great time dancing. After the lessons our instructor DJ's a free dance until 10pm
X-ALT-DESC;FMTTYPE=text/html:Every Monday the CWU Swing Cats has a swing dance lesson. The intermediate lesson starts at 6pm and the beginner lesson starts at 7pm. The lessons are $3 each and you DO NOT have to be a Central student to come and have a great time dancing. After the lessons our instructor DJ&#39\;s a free dance until 10pm
LOCATION:CWU SURC Ballroom 1007 N Chestnut St. Ellensburg\, WA
UID:e.40.8439
SEQUENCE:3
DTSTAMP:20260420T083116Z
URL:http://business.kittitascountychamber.com/events/details/swing-dance-lessons-05-27-2013-8439
END:VEVENT

END:VCALENDAR
