BEGIN:VCALENDAR
VERSION:2.0
PRODID:-//ChamberMaster//Event Calendar 2.0//EN
METHOD:PUBLISH
X-PUBLISHED-TTL:P3D
REFRESH-INTERVAL:P3D
CALSCALE:GREGORIAN
BEGIN:VEVENT
DTSTART:20130525T160000Z
DTEND:20130525T210000Z
X-MICROSOFT-CDO-ALLDAYEVENT:FALSE
SUMMARY:Take A Hike! Wild Horse Wind & Solar Facility
DESCRIPTION:5 th Annual Wildflower and Wind Power Hike\n\n9:00 am -Native Plant Gardening\n\n10:00 am - Guided Wildflower Hike\n\n12:00 pm - Wind Turbine Tour\n\n1:00 pm -   Central Washington Lichen\n\n2:00 pm  -    Guided Wildflower Hike\n\n\n\nThere will also be information booths
X-ALT-DESC;FMTTYPE=text/html:5 th Annual Wildflower and Wind Power Hike<br />\n9:00 am -Native Plant Gardening<br />\n10:00 am - Guided Wildflower Hike<br />\n12:00 pm - Wind Turbine Tour<br />\n1:00 pm -&nbsp\;&nbsp\;&nbsp\;Central Washington Lichen<br />\n2:00 pm&nbsp\; -&nbsp\;&nbsp\;&nbsp\;&nbsp\;Guided Wildflower Hike<br />\n<br />\nThere will also be information booths
LOCATION:Wild Horse Wind & Solar Facility 25905 Vantage Hwy
UID:e.40.10284
SEQUENCE:3
DTSTAMP:20260420T083317Z
URL:http://business.kittitascountychamber.com/events/details/take-a-hike-wild-horse-wind-solar-facility-05-25-2013-10284
END:VEVENT

END:VCALENDAR
