BEGIN:VCALENDAR
VERSION:2.0
PRODID:-//ChamberMaster//Event Calendar 2.0//EN
METHOD:PUBLISH
X-PUBLISHED-TTL:P3D
REFRESH-INTERVAL:P3D
CALSCALE:GREGORIAN
BEGIN:VEVENT
DTSTART:20121201T190000Z
DTEND:20121201T210000Z
X-MICROSOFT-CDO-ALLDAYEVENT:FALSE
SUMMARY:Teddy Bear Tea
DESCRIPTION:In its sixth year\, the annual Teddy Bear Tea is a family favorite. Join Mr. and Mrs. Claus for a nice lunch and fancy tea as you craft with our volunteers\, listen to stories\, watch children dance\, and enjoy fun with the family. This event is on Saturday\, December 1st from 11 am to 1 pm at Kelleher Motor. Tickets will go on sale in mid November at Fitterer's Furniture\, the event sponsor. Tickets are $7.50 for children and $15 for adults and seating is limited. Don't miss this very special event.
X-ALT-DESC;FMTTYPE=text/html:In its sixth year\, the annual Teddy Bear Tea is a family favorite. Join Mr. and Mrs. Claus for a nice lunch and fancy tea as you craft with our volunteers\, listen to stories\, watch children dance\, and enjoy fun with the family. This event is on Saturday\, December 1st from 11 am to 1 pm at Kelleher Motor. Tickets will go on sale in mid November at Fitterer&rsquo\;s Furniture\, the event sponsor. Tickets are $7.50 for children and $15 for adults and seating is limited. Don&rsquo\;t miss this very special event.
LOCATION:Kelleher Motor Company
UID:e.40.8449
SEQUENCE:3
DTSTAMP:20260420T182231Z
URL:http://business.kittitascountychamber.com/events/details/teddy-bear-tea-12-01-2012-8449
END:VEVENT

END:VCALENDAR
