BEGIN:VCALENDAR
VERSION:2.0
PRODID:-//ChamberMaster//Event Calendar 2.0//EN
METHOD:PUBLISH
X-PUBLISHED-TTL:P3D
REFRESH-INTERVAL:P3D
CALSCALE:GREGORIAN
BEGIN:VEVENT
DTSTART:20130817T000000Z
DTEND:20130817T050000Z
X-MICROSOFT-CDO-ALLDAYEVENT:FALSE
SUMMARY:The Beatniks
DESCRIPTION:Swiftwater Cellars presents The Beatniks as part of the 2013 Summer Concert Series! The Beatniks will be performing music from the 60's\, 70's and 80's. This is a family friendly event.
X-ALT-DESC;FMTTYPE=text/html:Swiftwater Cellars presents The Beatniks as part of the 2013 Summer Concert Series! The Beatniks will be performing music from the 60&#39\;s\, 70&#39\;s and 80&#39\;s. This is a family friendly event.
LOCATION:Swiftwater Cellars 301 Rope Rider Drive Cle Elum\, WA 98922
UID:e.40.10298
SEQUENCE:3
DTSTAMP:20260420T033145Z
URL:http://business.kittitascountychamber.com/events/details/the-beatniks-08-16-2013-10298
END:VEVENT

END:VCALENDAR
