BEGIN:VCALENDAR
VERSION:2.0
PRODID:-//ChamberMaster//Event Calendar 2.0//EN
METHOD:PUBLISH
X-PUBLISHED-TTL:P3D
REFRESH-INTERVAL:P3D
CALSCALE:GREGORIAN
BEGIN:VEVENT
DTSTART:20131212T030000Z
DTEND:20131215T220000Z
X-MICROSOFT-CDO-ALLDAYEVENT:FALSE
SUMMARY:The Best Christmas Pageant Ever
DESCRIPTION:Boulet Productions presents: "The Best Christmas Pageant Ever"
X-ALT-DESC;FMTTYPE=text/html:Boulet Productions presents: &quot\;The Best Christmas Pageant Ever&quot\;
LOCATION:NWI Building First Street and E Washington Ave
UID:e.40.10852
SEQUENCE:3
DTSTAMP:20260419T211034Z
URL:http://business.kittitascountychamber.com/events/details/the-best-christmas-pageant-ever-12-11-2013-10852
END:VEVENT

END:VCALENDAR
