BEGIN:VCALENDAR
VERSION:2.0
PRODID:-//ChamberMaster//Event Calendar 2.0//EN
METHOD:PUBLISH
X-PUBLISHED-TTL:P3D
REFRESH-INTERVAL:P3D
CALSCALE:GREGORIAN
BEGIN:VEVENT
DTSTART:20121209T220000Z
DTEND:20121210T000000Z
X-MICROSOFT-CDO-ALLDAYEVENT:FALSE
SUMMARY:The Nutcracker Returns
DESCRIPTION:The classic holiday ballet "The Nutcracker" returns to Ellensburg and will delight audience members of all ages. A joint production with the Central Washingron Dance Ensemble\, CWU's Orchesis Dance Company and the Central Theatre Ensemble\, presents "The Nutcracker" at McConnell Auditorium December 7 and 8 at 7:30 pm and on December 9th at 2:00 pm.\n\n	Tickets are available by calling 509-963-1429 and on the web at www.cwu.edu/theatre/tickets\, also at the CWU Wildcat Shop and CWU Welcome Center. $14.00 General Admission Adults\; $11.00 Seniors and Students\; $7.00 CWU Students w/CWU ID
X-ALT-DESC;FMTTYPE=text/html:<p>\n	The classic holiday ballet &quot\;The Nutcracker&quot\; returns to Ellensburg and will delight audience members of all ages. A joint production with the Central Washingron Dance Ensemble\, CWU&#39\;s Orchesis Dance Company and the Central Theatre Ensemble\, presents &quot\;The Nutcracker&quot\; at McConnell Auditorium December 7 and 8 at 7:30 pm and on December 9th at 2:00 pm.</p>\n<p>\n	Tickets are available by calling 509-963-1429 and on the web at www.cwu.edu/theatre/tickets\, also at the CWU Wildcat Shop and CWU Welcome Center. $14.00 General Admission Adults\; $11.00 Seniors and Students\; $7.00 CWU Students w/CWU ID</p>\n
LOCATION:CWU McConnell Auditorium 400 E. University Way Ellensburg WA
UID:e.40.9189
SEQUENCE:3
DTSTAMP:20260420T182014Z
URL:http://business.kittitascountychamber.com/events/details/the-nutcracker-returns-12-09-2012-9189
END:VEVENT

END:VCALENDAR
