BEGIN:VCALENDAR
VERSION:2.0
PRODID:-//ChamberMaster//Event Calendar 2.0//EN
METHOD:PUBLISH
X-PUBLISHED-TTL:P3D
REFRESH-INTERVAL:P3D
CALSCALE:GREGORIAN
BEGIN:VEVENT
DTSTART:20140315T023000Z
DTEND:20140316T230000Z
X-MICROSOFT-CDO-ALLDAYEVENT:FALSE
SUMMARY:The Sleeping Beauty Ballet
DESCRIPTION:The Sleeping Beauty Ballet Join us for this classic beloved story\, featuring guest artists from the Eugene Ballet company\, dancers from Ellensburg's Central Washington Dance Ensemble and CWU's Orchesis Dance Company. This is a joint production with Ellensburg's Central Washington Dance Ensemble\, CWU Theatre Arts and CWU Orchesis Dance Company. This beautiful show will entertain audience members of all ages. McConnell Hall\, CWU March 14 and 15 at 7:30 March 16 at 2:00 Adult - Premium $17/Non-Premium $14 Student/ Senior - Premium $15/Non-premium $11 CWU Student with ID - $7 Tickets: 509-963-1429 www.cwu.edu/theatre/tickets CWU Wildcat Shop or CWU Welcome Center Box office is open at the venue 1 hour prior to show
X-ALT-DESC;FMTTYPE=text/html:The Sleeping Beauty Ballet Join us for this classic beloved story\, featuring guest artists from the Eugene Ballet company\, dancers from Ellensburg&#39\;s Central Washington Dance Ensemble and CWU&#39\;s Orchesis Dance Company. This is a joint production with Ellensburg&#39\;s Central Washington Dance Ensemble\, CWU Theatre Arts and CWU Orchesis Dance Company. This beautiful show will entertain audience members of all ages. McConnell Hall\, CWU March 14 and 15 at 7:30 March 16 at 2:00 Adult - Premium $17/Non-Premium $14 Student/ Senior - Premium $15/Non-premium $11 CWU Student with ID - $7 Tickets: 509-963-1429 www.cwu.edu/theatre/tickets CWU Wildcat Shop or CWU Welcome Center Box office is open at the venue 1 hour prior to show
LOCATION:McConnell Hall\, CWU
UID:e.40.11136
SEQUENCE:3
DTSTAMP:20260419T161527Z
URL:http://business.kittitascountychamber.com/events/details/the-sleeping-beauty-ballet-03-14-2014-11136
END:VEVENT

END:VCALENDAR
