BEGIN:VCALENDAR
VERSION:2.0
PRODID:-//ChamberMaster//Event Calendar 2.0//EN
METHOD:PUBLISH
X-PUBLISHED-TTL:P3D
REFRESH-INTERVAL:P3D
CALSCALE:GREGORIAN
BEGIN:VEVENT
DTSTART:20190704T020000Z
DTEND:20190708T040000Z
X-MICROSOFT-CDO-ALLDAYEVENT:FALSE
SUMMARY:The Wild\, Wild\, Wildest West
DESCRIPTION:Boulet Theatre Productions proudly invites you on a raucousm spoofy journey through "Low Humidity Chasm" in The Wild\, Wild\, Wildest West or... "How the West Was Dun!"
X-ALT-DESC;FMTTYPE=text/html:Boulet Theatre Productions proudly invites you on a raucousm spoofy journey through &quot\;Low Humidity Chasm&quot\; in The Wild\, Wild\, Wildest West or... &quot\;How the West Was Dun!&quot\;<br />\n<br />\n&nbsp\;
LOCATION:Old Masonic Hall in Roslyn (next door to the post office on W. Pennsylvania Ave)
UID:e.40.25858
SEQUENCE:3
DTSTAMP:20260421T131919Z
URL:http://business.kittitascountychamber.com/events/details/the-wild-wild-wildest-west-25858
END:VEVENT

END:VCALENDAR
