BEGIN:VCALENDAR
VERSION:2.0
PRODID:-//ChamberMaster//Event Calendar 2.0//EN
METHOD:PUBLISH
X-PUBLISHED-TTL:P3D
REFRESH-INTERVAL:P3D
CALSCALE:GREGORIAN
BEGIN:VEVENT
DTSTART:20130525T210000Z
DTEND:20130526T040000Z
X-MICROSOFT-CDO-ALLDAYEVENT:FALSE
SUMMARY:Thorp Mill Annual Dinner and Auction
DESCRIPTION:The Thorp Mill's Annual Dinner and Auction kicks off with tours of the historic Mill at 2 and 4 p.m. The Springwood Ranch Party Barn doors open at 4:30 p.m. for a silent auction with Dinner from 5 p.m. and live auction starting at 6:30 p.m.
X-ALT-DESC;FMTTYPE=text/html:The Thorp Mill&#39\;s Annual Dinner and Auction kicks off with tours of the historic Mill at 2 and 4 p.m. The Springwood Ranch Party Barn doors open at 4:30 p.m. for a silent auction with Dinner from 5 p.m. and live auction starting at 6:30 p.m. 
LOCATION:Thorp Mill and Springwood Ranch Party Barn\, Thorp
UID:e.40.10168
SEQUENCE:3
DTSTAMP:20260420T083214Z
URL:http://business.kittitascountychamber.com/events/details/thorp-mill-annual-dinner-and-auction-05-25-2013-10168
END:VEVENT

END:VCALENDAR
