BEGIN:VCALENDAR
VERSION:2.0
PRODID:-//ChamberMaster//Event Calendar 2.0//EN
METHOD:PUBLISH
X-PUBLISHED-TTL:P3D
REFRESH-INTERVAL:P3D
CALSCALE:GREGORIAN
BEGIN:VEVENT
DTSTART:20260520T003000Z
DTEND:20260520T020000Z
X-MICROSOFT-CDO-ALLDAYEVENT:FALSE
SUMMARY:Tie Dye Happy Hour
DESCRIPTION:Join us at the Snoqualmie Pass taproom for a fun night of tie dye and drink specials!\n\nOur Cru member\, Amber\, of Three Little Birds Ties & Dyes will be leading a design-your-own\, tie-dyed t-shirt session at the taproom.\n\nWhat to expect:\n\n\n	Sign up required   HERE\n\n	\n		Book the t-shirt size you want\n		$35 per person   paid upon arrival\n		All supplies and instructions included.\n	\n	\n	Happy Hour Specials available all day   purchased separately\n	\n		$1 off pints\, $2 off mugs\, and $4 off pitchers\n	\n	\n\n\nSee you at the taproom for some tie-dye fun!
X-ALT-DESC;FMTTYPE=text/html:<div>\n<h3>Join us at the Snoqualmie Pass taproom for a fun night of tie dye and drink specials!</h3>\n\n<p>Our Cru member\, Amber\, of&nbsp\;<a href="https://www.facebook.com/Threelittlebirdsdyes" style="box-sizing: border-box !important\; text-decoration: none\; background-color: transparent !important\; color: rgb(51\, 114\, 240) !important\; box-shadow: none !important\;">Three Little Birds Ties &amp\; Dyes</a>&nbsp\;will be leading a design-your-own\, tie-dyed t-shirt session at the taproom.</p>\n\n<p>What to expect:</p>\n\n<ul>\n	<li>Sign up required &ndash\;&nbsp\;<strong><a href="https://docs.google.com/forms/d/e/1FAIpQLSewr_cf5AccfipfxoQiFZSz70D7eQibKmE-ecGVpfYiPtjrvg/viewform?usp=dialog" style="box-sizing: border-box !important\; text-decoration: none\; background-color: transparent !important\; color: rgb(51\, 114\, 240) !important\; box-shadow: none !important\;">HERE</a></strong>\n\n	<ul>\n		<li>Book the t-shirt size you want</li>\n		<li>$35 per person &ndash\; paid upon arrival</li>\n		<li>All supplies and instructions included.</li>\n	</ul>\n	</li>\n	<li>Happy Hour Specials&nbsp\;available all day &ndash\; purchased separately\n	<ul>\n		<li>$1 off pints\, $2 off mugs\, and $4 off pitchers</li>\n	</ul>\n	</li>\n</ul>\n\n<p>See you at the taproom for some tie-dye fun!</p>\n</div>\n
LOCATION:Dru Bru - Snoqualmie Pass 10 Pass Life Way #3 Snoqualmie Pass\, WA 98068
UID:e.40.41612
SEQUENCE:3
DTSTAMP:20260421T094908Z
URL:http://business.kittitascountychamber.com/events/details/tie-dye-happy-hour-41612
END:VEVENT

END:VCALENDAR
