BEGIN:VCALENDAR
VERSION:2.0
PRODID:-//ChamberMaster//Event Calendar 2.0//EN
METHOD:PUBLISH
X-PUBLISHED-TTL:P3D
REFRESH-INTERVAL:P3D
CALSCALE:GREGORIAN
BEGIN:VEVENT
DTSTART:20130810T153000Z
DTEND:20130810T190000Z
X-MICROSOFT-CDO-ALLDAYEVENT:FALSE
SUMMARY:United Way's 3rd Annual Kittitas County 6K Run/ Walk
DESCRIPTION:United Way is hosting it's 3rd Annual Kittitas County 5K Run/ Walk! T-shirts and water will be provided. You can register the day of the race or at: https://www.uwcw.org/civicrm/event/info?reset=1&id=44
X-ALT-DESC;FMTTYPE=text/html:United Way is hosting it&#39\;s 3rd Annual Kittitas County 5K Run/ Walk! T-shirts and water will be provided. You can register the day of the race or at: https://www.uwcw.org/civicrm/event/info?reset=1&amp\;id=44
LOCATION:Rotary Park- 1200 W. 5th\, Ellensburg
UID:e.40.10402
SEQUENCE:3
DTSTAMP:20260420T032901Z
URL:http://business.kittitascountychamber.com/events/details/united-way-s-3rd-annual-kittitas-county-6k-run-walk-08-10-2013-10402
END:VEVENT

END:VCALENDAR
