BEGIN:VCALENDAR
VERSION:2.0
PRODID:-//ChamberMaster//Event Calendar 2.0//EN
METHOD:PUBLISH
X-PUBLISHED-TTL:P3D
REFRESH-INTERVAL:P3D
CALSCALE:GREGORIAN
BEGIN:VEVENT
DTSTART:20130426T013000Z
DTEND:20130426T030000Z
X-MICROSOFT-CDO-ALLDAYEVENT:FALSE
SUMMARY:Unstoppable: Anthony Robles
DESCRIPTION:Anthony Robles is coming to CWU to share his story of courage and perseverance Thursday\, April 25 at 6:30 p.m. in the Student Union and Recreation Center (SURC) Ballroom. Tickets are free and available at www.cwu.edu/tickets. College wrestling isn?t the most publicized sport\, but the nation was watching two years ago when Robles took home the 125-pound Individual Championship\, despite being born with only one leg. The national title was the culmination of his wrestling career\, where he was a three-time All American at Arizona State\, and launched him into ?cult-hero? status among sports fans. Robles? accomplishments on the mat have earned him a job as a wrestling analyst at ESPN and a spot in the National Wrestling Hall of Fame. He has also written a book chronicling his unlikely rise to the pinnacle of American wrestling. ?Unstoppable: From Underdog to Undefeated? is Robles? inspiring story\, in his own words. Don?t miss Robles share high and low points?both on and off the mat?he encountered on his quest to become a national champion. For more information contact CDSJ at 509-963-1685 or diversity@cwu.edu. This event is sponsored by CWU Access\, Belonging\, Learning and Equality (ABLE)\, Center for Diversity and Social Justice\, Center for Leadership and Community Engagement\, Campus Activities and the Center for Disability Services.
X-ALT-DESC;FMTTYPE=text/html:Anthony Robles is coming to CWU to share his story of courage and perseverance Thursday\, April 25 at 6:30 p.m. in the Student Union and Recreation Center (SURC) Ballroom. Tickets are free and available at www.cwu.edu/tickets. College wrestling isn?t the most publicized sport\, but the nation was watching two years ago when Robles took home the 125-pound Individual Championship\, despite being born with only one leg. The national title was the culmination of his wrestling career\, where he was a three-time All American at Arizona State\, and launched him into ?cult-hero? status among sports fans. Robles? accomplishments on the mat have earned him a job as a wrestling analyst at ESPN and a spot in the National Wrestling Hall of Fame. He has also written a book chronicling his unlikely rise to the pinnacle of American wrestling. ?Unstoppable: From Underdog to Undefeated? is Robles? inspiring story\, in his own words. Don?t miss Robles share high and low points?both on and off the mat?he encountered on his quest to become a national champion. For more information contact CDSJ at 509-963-1685 or diversity@cwu.edu. This event is sponsored by CWU Access\, Belonging\, Learning and Equality (ABLE)\, Center for Diversity and Social Justice\, Center for Leadership and Community Engagement\, Campus Activities and the Center for Disability Services. 
LOCATION:SURC Ballroom
UID:e.40.10166
SEQUENCE:3
DTSTAMP:20260420T100124Z
URL:http://business.kittitascountychamber.com/events/details/unstoppable-anthony-robles-04-25-2013-10166
END:VEVENT

END:VCALENDAR
