BEGIN:VCALENDAR
VERSION:2.0
PRODID:-//ChamberMaster//Event Calendar 2.0//EN
METHOD:PUBLISH
X-PUBLISHED-TTL:P3D
REFRESH-INTERVAL:P3D
CALSCALE:GREGORIAN
BEGIN:VEVENT
DTSTART:20190705T050000Z
DTEND:20190705T060000Z
X-MICROSOFT-CDO-ALLDAYEVENT:FALSE
SUMMARY:Upper County Independence Day Fireworks
DESCRIPTION:Celebrate the 4th of July with the Kittitas County Chamber of Commerce in Upper Kittitas County. The Independence Day Celebration at Wye Park will feature the much anticipated Fireworks Show.
X-ALT-DESC;FMTTYPE=text/html:<p style="margin: 0px\;"><font color="#000000" face="Calibri" size="3">Celebrate the 4th of July with the Kittitas County Chamber of Commerce in Upper Kittitas County. The Independence Day Celebration at Wye Park will feature&nbsp\;the much anticipated Fireworks Show.</font></p>\n
LOCATION:Wye Park\, Cle Elum Washington
UID:e.40.25810
SEQUENCE:3
DTSTAMP:20260421T131556Z
URL:http://business.kittitascountychamber.com/events/details/upper-county-independence-day-fireworks-25810
END:VEVENT

END:VCALENDAR
