BEGIN:VCALENDAR
VERSION:2.0
PRODID:-//ChamberMaster//Event Calendar 2.0//EN
METHOD:PUBLISH
X-PUBLISHED-TTL:P3D
REFRESH-INTERVAL:P3D
CALSCALE:GREGORIAN
BEGIN:VEVENT
DTSTART:20190706T020000Z
DTEND:20190708T050000Z
X-MICROSOFT-CDO-ALLDAYEVENT:FALSE
SUMMARY:Valley Musical Theatre Presents: THE MUSIC MAN
DESCRIPTION:Oh\, we got trouble. Right here in River City (aka Ellensburg) as Valley Musical Theatre proudly presents its 2019 Mainstage Summer Musical\, Meredith Willson's THE MUSIC MAN. ~When Professor Harold Hill\, a traveling con man\, arrives in River City\, he convinces the locals to start a band by purchasing the uniforms and instruments from him. His intention is to flee as soon as he receives the money. Librarian Marian Paroo suspects Harold is a fraud\, but holds her tongue since her young brother\, Winthrop\, is excited about the band. As Harold begins to develop feelings for Marian\, he faces a difficult decision about skipping town.~ An amazing cast of community members portray the citizens of River City\, Iowa\, in this All-American musical favorite. They bring to life the traditions\, conflicts\, pride\, and love experienced in a small\, mid-west township. Book\, music and lyrics by Meredith Willson. Based on a story by Meredith Willson and Franklin Lacey. THE MUSIC MAN is presented through special arrangement with Music Theatre International (MTI). All authorized performance materials are also supplied by MTI\, 423 West 55th Street\, New York\, NY 10019. Tel: (212) 541-4684 Fax: (212) 397-4684. www.MTIShows.com
X-ALT-DESC;FMTTYPE=text/html:Oh\, we got trouble. Right here in River City (aka Ellensburg) as Valley Musical Theatre proudly presents its 2019 Mainstage Summer Musical\, Meredith Willson&#39\;s THE MUSIC MAN. ~When Professor Harold Hill\, a traveling con man\, arrives in River City\, he convinces the locals to start a band by purchasing the uniforms and instruments from him. His intention is to flee as soon as he receives the money. Librarian Marian Paroo suspects Harold is a fraud\, but holds her tongue since her young brother\, Winthrop\, is excited about the band. As Harold begins to develop feelings for Marian\, he faces a difficult decision about skipping town.~ An amazing cast of community members portray the citizens of River City\, Iowa\, in this All-American musical favorite. They bring to life the traditions\, conflicts\, pride\, and love experienced in a small\, mid-west township. Book\, music and lyrics by Meredith Willson. Based on a story by Meredith Willson and Franklin Lacey. THE MUSIC MAN is presented through special arrangement with Music Theatre International (MTI). All authorized performance materials are also supplied by MTI\, 423 West 55th Street\, New York\, NY 10019. Tel: (212) 541-4684 Fax: (212) 397-4684. www.MTIShows.com
LOCATION:Morgan Performing Arts Center 400 E 1st Ave Ellensburg\, WA
UID:e.40.25818
SEQUENCE:3
DTSTAMP:20260421T132236Z
URL:http://business.kittitascountychamber.com/events/details/valley-musical-theatre-presents-the-music-man-25818
END:VEVENT

END:VCALENDAR
