BEGIN:VCALENDAR
VERSION:2.0
PRODID:-//ChamberMaster//Event Calendar 2.0//EN
METHOD:PUBLISH
X-PUBLISHED-TTL:P3D
REFRESH-INTERVAL:P3D
CALSCALE:GREGORIAN
BEGIN:VEVENT
DTSTART:20140509T183000Z
DTEND:20140510T003000Z
X-MICROSOFT-CDO-ALLDAYEVENT:FALSE
SUMMARY:Valley Vision and Hearing Presents: Spring Frame Show
DESCRIPTION:Valley Vision and Hearing presents the annual Spring Frame show on Friday\, May 9th from 11:30 - 5:30. They will be launching a new eyewear line from cosmetics designer Bobbi Brown\, as well as showcasing eyeglass frames from Kate Spade\, Fossil\, Boss\, Maui Jim and Zeal. Enter to win free frames and brand merchandise!
X-ALT-DESC;FMTTYPE=text/html:Valley Vision and Hearing presents the annual Spring Frame show on Friday\, May 9th from 11:30 - 5:30. They will be launching a new eyewear line from cosmetics designer Bobbi Brown\, as well as showcasing eyeglass frames from Kate Spade\, Fossil\, Boss\, Maui Jim and Zeal. Enter to win free frames and brand merchandise!
LOCATION:2201 W. Dolarway Rd. Ellensburg\, WA 98926
UID:e.40.11411
SEQUENCE:3
DTSTAMP:20260419T125907Z
URL:http://business.kittitascountychamber.com/events/details/valley-vision-and-hearing-presents-spring-frame-show-05-09-2014-11411
END:VEVENT

END:VCALENDAR
