BEGIN:VCALENDAR
VERSION:2.0
PRODID:-//ChamberMaster//Event Calendar 2.0//EN
METHOD:PUBLISH
X-PUBLISHED-TTL:P3D
REFRESH-INTERVAL:P3D
CALSCALE:GREGORIAN
BEGIN:VEVENT
DTSTART:20220615T020000Z
DTEND:20220615T030000Z
X-MICROSOFT-CDO-ALLDAYEVENT:FALSE
SUMMARY:VFW Post 683 Business Meeting
DESCRIPTION:The VFW Post 683 will be holding a business meeting on June 14\, 2022 at 7 p.m.
X-ALT-DESC;FMTTYPE=text/html:The VFW Post 683 will be holding a business meeting on June 14\, 2022 at 7 p.m.
LOCATION:
UID:e.40.27991
SEQUENCE:3
DTSTAMP:20260425T200653Z
URL:http://business.kittitascountychamber.com/events/details/vfw-post-683-business-meeting-27991
END:VEVENT

END:VCALENDAR
