BEGIN:VCALENDAR
VERSION:2.0
PRODID:-//ChamberMaster//Event Calendar 2.0//EN
METHOD:PUBLISH
X-PUBLISHED-TTL:P3D
REFRESH-INTERVAL:P3D
CALSCALE:GREGORIAN
BEGIN:VEVENT
DTSTART:20140415T180000Z
DTEND:20140420T000000Z
X-MICROSOFT-CDO-ALLDAYEVENT:FALSE
SUMMARY:Visiting Ceramic Artist - Saya Moriyasu
DESCRIPTION:Saya Moriyasu of Seattle will be in residence at the Gallery One ceramic studio making art during gallery hours. We invite you to come and meet her and watch her create her work. Find out more about the artist at: www.sayamoriyasu.com
X-ALT-DESC;FMTTYPE=text/html:Saya Moriyasu of Seattle will be in residence at the Gallery One ceramic studio making art during gallery hours. We invite you to come and meet her and watch her create her work. Find out more about the artist at: www.sayamoriyasu.com
LOCATION:Gallery-One 408 N Pearl Street Ellensburg WA 98926
UID:e.40.11297
SEQUENCE:3
DTSTAMP:20260419T144026Z
URL:http://business.kittitascountychamber.com/events/details/visiting-ceramic-artist-saya-moriyasu-04-15-2014-11297
END:VEVENT

END:VCALENDAR
