BEGIN:VCALENDAR
VERSION:2.0
PRODID:-//ChamberMaster//Event Calendar 2.0//EN
METHOD:PUBLISH
X-PUBLISHED-TTL:P3D
REFRESH-INTERVAL:P3D
CALSCALE:GREGORIAN
BEGIN:VEVENT
DTSTART:20190705T180000Z
DTEND:20190831T230000Z
X-MICROSOFT-CDO-ALLDAYEVENT:FALSE
SUMMARY:"Volunteers of the Ellensburg Rodeo" Exhibit by the Ellensburg Rodeo Hall of Fame
DESCRIPTION:Since the summer of 1923\, when hundreds of local citizens gathered to grade and construct the Ellensburg Rodeo grounds\, the rodeo has been rooted in volunteerism. This exhibit spotlights Ellensburg Rodeo volunteers across the 20th and 21st centuries as the Ellensburg Rodeo Hall of Fame honors the rodeo board\, allied organizations\, and the countless individuals who have worked so hard over the decades to make Ellensburg one of the premier rodeo venues in North America.
X-ALT-DESC;FMTTYPE=text/html:Since the summer of 1923\, when hundreds of local citizens gathered to grade and construct the Ellensburg Rodeo grounds\, the rodeo has been rooted in volunteerism. This exhibit spotlights Ellensburg Rodeo volunteers across the 20th and 21st centuries as the Ellensburg Rodeo Hall of Fame honors the rodeo board\, allied organizations\, and the countless individuals who have worked so hard over the decades to make Ellensburg one of the premier rodeo venues in North America.
LOCATION:Ellensburg Rodeo Hall of Fame\, Western Culture and Arts Center\, 416 N. Pearl
UID:e.40.25857
SEQUENCE:3
DTSTAMP:20260421T132413Z
URL:http://business.kittitascountychamber.com/events/details/volunteers-of-the-ellensburg-rodeo-exhibit-by-the-ellensburg-rodeo-hall-of-fame-25857
END:VEVENT

END:VCALENDAR
