BEGIN:VCALENDAR
VERSION:2.0
PRODID:-//ChamberMaster//Event Calendar 2.0//EN
METHOD:PUBLISH
X-PUBLISHED-TTL:P3D
REFRESH-INTERVAL:P3D
CALSCALE:GREGORIAN
BEGIN:VEVENT
DTSTART:20131005T170000Z
DTEND:20131005T190000Z
X-MICROSOFT-CDO-ALLDAYEVENT:FALSE
SUMMARY:Walk to End Alzheimer's
DESCRIPTION:The Alzheimer's Association Walk to End Alzheimer?s  is the nation?s largest event to raise awareness and funds for Alzheimer?s care\, support and research. Held annually in more than 600 communities nationwide\, this inspiring event calls on participants of all ages and abilities to reclaim the future for millions. Together\, we can end Alzheimer?s disease\, the nation?s sixth-leading cause of death. Take the first step to a world without Alzheimer?s by finding a Walk near you through visiting our website alz.org/walk. Once you register\, you will have access to a wide range of tools and support through your Participant Center\, ensuring a successful and fulfilling experience.
X-ALT-DESC;FMTTYPE=text/html:The Alzheimer&#39\;s Association Walk to End Alzheimer?s&reg\; is the nation?s largest event to raise awareness and funds for Alzheimer?s care\, support and research. Held annually in more than 600 communities nationwide\, this inspiring event calls on participants of all ages and abilities to reclaim the future for millions. Together\, we can end Alzheimer?s disease\, the nation?s sixth-leading cause of death. Take the first step to a world without Alzheimer?s by finding a Walk near you through visiting our website alz.org/walk. Once you register\, you will have access to a wide range of tools and support through your Participant Center\, ensuring a successful and fulfilling experience. 
LOCATION:Central Washington University 400 East University Way Ellensburg\, WA 98296
UID:e.40.10337
SEQUENCE:3
DTSTAMP:20260420T003154Z
URL:http://business.kittitascountychamber.com/events/details/walk-to-end-alzheimer-s-10-05-2013-10337
END:VEVENT

END:VCALENDAR
