BEGIN:VCALENDAR
VERSION:2.0
PRODID:-//ChamberMaster//Event Calendar 2.0//EN
METHOD:PUBLISH
X-PUBLISHED-TTL:P3D
REFRESH-INTERVAL:P3D
CALSCALE:GREGORIAN
BEGIN:VEVENT
DTSTART:20131207T180000Z
DTEND:20131207T230000Z
X-MICROSOFT-CDO-ALLDAYEVENT:FALSE
SUMMARY:Ware Fair
DESCRIPTION:Ware Fair Dec. 7 10 a.m. to 3 p.m. SURC This year marks the 38th anniversary of Ware Fair at CWU. This festival has something for everyone\, including fine art\, handmade crafts\, delectable eats and holiday fun. Featuring more than 50 vendors from the northwest\, Ware Fair never fails to impress. For more information contact Ware Fair coordinator Alyssa Herandy at 509-963-3315 or warefair@cwu.edu.
X-ALT-DESC;FMTTYPE=text/html:Ware Fair Dec. 7 10 a.m. to 3 p.m. SURC This year marks the 38th anniversary of Ware Fair at CWU. This festival has something for everyone\, including fine art\, handmade crafts\, delectable eats and holiday fun. Featuring more than 50 vendors from the northwest\, Ware Fair never fails to impress. For more information contact Ware Fair coordinator Alyssa Herandy at 509-963-3315 or warefair@cwu.edu. 
LOCATION:SURC
UID:e.40.10825
SEQUENCE:3
DTSTAMP:20260419T210411Z
URL:http://business.kittitascountychamber.com/events/details/ware-fair-12-07-2013-10825
END:VEVENT

END:VCALENDAR
