BEGIN:VCALENDAR
VERSION:2.0
PRODID:-//ChamberMaster//Event Calendar 2.0//EN
METHOD:PUBLISH
X-PUBLISHED-TTL:P3D
REFRESH-INTERVAL:P3D
CALSCALE:GREGORIAN
BEGIN:VEVENT
DTSTART:20130723T020000Z
DTEND:20130727T030000Z
X-MICROSOFT-CDO-ALLDAYEVENT:FALSE
SUMMARY:Washington Old Time Fiddlers
DESCRIPTION:The Washington Old Time Fiddlers Evening Show and Events\, in Kittitas\, WA. will be conduction old time music workshop classes it Kittitas Elementary School\, from Monday July 22 through July 26th.  This is the 20th year that the group has met in Kittitas.  The event hosts musicians and music lovers from ages five through the 90's.  Instructors teach fiddle\, guitar and mandolin classes and this year have added banjo.  The public performance is Friday July 26th at 7:00 pm.  Donations are gladly accepted.  The public is also invited to attend the Monday - Thursday evening activites
X-ALT-DESC;FMTTYPE=text/html:The Washington Old Time Fiddlers Evening Show and Events\, in Kittitas\, WA. will be conduction old time music workshop classes it Kittitas Elementary School\, from Monday July 22 through July 26th.&nbsp\; This is the 20th year that the group has met in Kittitas.&nbsp\; The event hosts musicians and music lovers from ages five through the 90&#39\;s.&nbsp\; Instructors teach fiddle\, guitar and mandolin classes and this year have added banjo.&nbsp\; The public performance is Friday July 26th at 7:00 pm.&nbsp\; Donations are gladly accepted.&nbsp\; The public is also invited to attend the Monday - Thursday evening activites
LOCATION:Kittitas Elementary
UID:e.40.10413
SEQUENCE:3
DTSTAMP:20260420T050841Z
URL:http://business.kittitascountychamber.com/events/details/washington-old-time-fiddlers-07-22-2013-10413
END:VEVENT

END:VCALENDAR
