BEGIN:VCALENDAR
VERSION:2.0
PRODID:-//ChamberMaster//Event Calendar 2.0//EN
METHOD:PUBLISH
X-PUBLISHED-TTL:P3D
REFRESH-INTERVAL:P3D
CALSCALE:GREGORIAN
BEGIN:VEVENT
DTSTART:20130619T013000Z
DTEND:20130619T030000Z
X-MICROSOFT-CDO-ALLDAYEVENT:FALSE
SUMMARY:Water Rights in the Kittitas Valley
DESCRIPTION:Washington Water Trust hosts a workshop on water rights\, appraisals\, mitigation and trust water opportunities in Kittitas Valley. The workshop will provide legal background on water rights\, trust water incentive programs\, and mitigation banking for water right holders and others interested in local water issues. WWT project managers will be on hand to look up water rights for those interested in learning more about their water.
X-ALT-DESC;FMTTYPE=text/html:Washington Water Trust hosts a workshop on water rights\, appraisals\, mitigation and trust water opportunities in Kittitas Valley. The workshop will provide legal background on water rights\, trust water incentive programs\, and mitigation banking for water right holders and others interested in local water issues. WWT project managers will be on hand to look up water rights for those interested in learning more about their water.
LOCATION:Hal Holmes Center - 209 N. Ruby Ellensburg.
UID:e.40.10331
SEQUENCE:3
DTSTAMP:20260420T064630Z
URL:http://business.kittitascountychamber.com/events/details/water-rights-in-the-kittitas-valley-06-18-2013-10331
END:VEVENT

END:VCALENDAR
