BEGIN:VCALENDAR
VERSION:2.0
PRODID:-//ChamberMaster//Event Calendar 2.0//EN
METHOD:PUBLISH
X-PUBLISHED-TTL:P3D
REFRESH-INTERVAL:P3D
CALSCALE:GREGORIAN
BEGIN:VEVENT
DTSTART:20140326T013000Z
DTEND:20140326T030000Z
X-MICROSOFT-CDO-ALLDAYEVENT:FALSE
SUMMARY:Water Rights in Upper Kittitas County
DESCRIPTION:6:30pm - 8:00pm\, Water Rights Workshop - Kittitas County Washington Water Trust is hosting a Water Rights Workshop for Upper Kittitas County. All are welcome to attend. Attendees will learn more about how water rights are valued in real estate\, about how groundwater mitigation banking works\, and about opportunities for cooperative flow programs.  WWT staff will be available at 6:00 pm to provide water right consultations\; the workshop presentation will begin at 6:30 p.m. Hot beverages and light snacks will be provided.
X-ALT-DESC;FMTTYPE=text/html:6:30pm - 8:00pm\, Water Rights Workshop - Kittitas County Washington Water Trust is hosting a Water Rights Workshop for Upper Kittitas County. All are welcome to attend. Attendees will learn more about how water rights are valued in real estate\, about how groundwater mitigation banking works\, and about opportunities for cooperative flow programs.&nbsp\; WWT staff will be available at 6:00 pm to provide water right consultations\; the workshop presentation will begin at 6:30 p.m. Hot beverages and light snacks will be provided.
LOCATION:Multi-purpose room at the Cle Elum-Roslyn Elementary School - 2694 State Route 903\, Cle Elum\, WA.
UID:e.40.11199
SEQUENCE:3
DTSTAMP:20260419T161421Z
URL:http://business.kittitascountychamber.com/events/details/water-rights-in-upper-kittitas-county-03-25-2014-11199
END:VEVENT

END:VCALENDAR
