BEGIN:VCALENDAR
VERSION:2.0
PRODID:-//ChamberMaster//Event Calendar 2.0//EN
METHOD:PUBLISH
X-PUBLISHED-TTL:P3D
REFRESH-INTERVAL:P3D
CALSCALE:GREGORIAN
BEGIN:VEVENT
DTSTART:20130816T170000Z
DTEND:20130817T210000Z
X-MICROSOFT-CDO-ALLDAYEVENT:FALSE
SUMMARY:Wenatchee Youth Circus
DESCRIPTION:Come and see 7 local teens perform in the Wenatchee Youth Circus\, a professional level quality circus show. This is a non-profit youth based program in its 61st year of performances. Bring a camping chair or blanket for seating. Fun for All Ages!!!
X-ALT-DESC;FMTTYPE=text/html:Come and see 7 local teens perform in the Wenatchee Youth Circus\, a professional level quality circus show. This is a non-profit youth based program in its 61st year of performances. Bring a camping chair or blanket for seating. Fun for All Ages!!!
LOCATION:CWU Music Building Lawn
UID:e.40.10420
SEQUENCE:3
DTSTAMP:20260420T033016Z
URL:http://business.kittitascountychamber.com/events/details/wenatchee-youth-circus-08-16-2013-10420
END:VEVENT

END:VCALENDAR
