BEGIN:VCALENDAR
VERSION:2.0
PRODID:-//ChamberMaster//Event Calendar 2.0//EN
METHOD:PUBLISH
X-PUBLISHED-TTL:P3D
REFRESH-INTERVAL:P3D
CALSCALE:GREGORIAN
BEGIN:VEVENT
DTSTART;VALUE=DATE:20140726
DTEND;VALUE=DATE:20140728
TRANSP:TRANSPARENT
X-MICROSOFT-CDO-ALLDAYEVENT:TRUE
SUMMARY:Whisky Dick Triathlon and Sprint
DESCRIPTION:WHISKY DICK TRIATHLON has been canceled for 2014. Due to low water levels in the Columbia River (Wanapum Dam issues) The triathlon has been canceled for this year....the Ellensburg Sprint on Saturday July 26th will still happen.  Please check www.buduracing.com for updates
X-ALT-DESC;FMTTYPE=text/html:<span style="color: rgb(255\, 0\, 0)\;">WHISKY DICK TRIATHLON has been canceled for 2014</span>. Due to low water levels in the Columbia River (Wanapum Dam issues) The triathlon has been canceled for this year...<span style="color: rgb(255\, 0\, 0)\;">.the Ellensburg Sprint on Saturday July 26th will still happen. &nbsp\;Please check www.buduracing.com for updates</span><span style="color: rgb(255\, 140\, 0)\;">&nbsp\;</span>
LOCATION:please check www.buduracing.com for updates
UID:e.40.11696
SEQUENCE:3
DTSTAMP:20260421T083911Z
URL:http://business.kittitascountychamber.com/events/details/whisky-dick-triathlon-and-sprint-07-26-2014-11696
END:VEVENT

END:VCALENDAR
