BEGIN:VCALENDAR
VERSION:2.0
PRODID:-//ChamberMaster//Event Calendar 2.0//EN
METHOD:PUBLISH
X-PUBLISHED-TTL:P3D
REFRESH-INTERVAL:P3D
CALSCALE:GREGORIAN
BEGIN:VEVENT
DTSTART:20131012T163000Z
DTEND:20131012T180000Z
X-MICROSOFT-CDO-ALLDAYEVENT:FALSE
SUMMARY:Wildcat Color 5K
DESCRIPTION:Wildcat Color 5K Saturday\, Oct 12\, 2013 10:30 am 9:30 a.m. registration begins\, 10:30 a.m. race start ? OPR Patio $15 (before Oct. 4 t-shirt guaranteed) ? Register at the Recreation Center front desk Get ready for Homecoming with the first color run on Central?s campus! Eric Scott ? 509-963-3511 ? imsports@cwu.edu ? www.cwu.edu/rec/intramural-sports
X-ALT-DESC;FMTTYPE=text/html:Wildcat Color 5K Saturday\, Oct 12\, 2013 10:30 am 9:30 a.m. registration begins\, 10:30 a.m. race start ? OPR Patio $15 (before Oct. 4 t-shirt guaranteed) ? Register at the Recreation Center front desk Get ready for Homecoming with the first color run on Central?s campus! Eric Scott ? 509-963-3511 ? imsports@cwu.edu ? www.cwu.edu/rec/intramural-sports 
LOCATION:CWU Outdoor Pursuits and Rentals (OPR) Patio
UID:e.40.10727
SEQUENCE:3
DTSTAMP:20260420T003321Z
URL:http://business.kittitascountychamber.com/events/details/wildcat-color-5k-10-12-2013-10727
END:VEVENT

END:VCALENDAR
