BEGIN:VCALENDAR
VERSION:2.0
PRODID:-//ChamberMaster//Event Calendar 2.0//EN
METHOD:PUBLISH
X-PUBLISHED-TTL:P3D
REFRESH-INTERVAL:P3D
CALSCALE:GREGORIAN
BEGIN:VEVENT
DTSTART:20140524T150000Z
DTEND:20140525T003000Z
X-MICROSOFT-CDO-ALLDAYEVENT:FALSE
SUMMARY:Wildflower and Wind Power Walk
DESCRIPTION:Join us on a guided walk led by local native plant enthusiasts through the stunning array of wildflowers at the Wild Horse Wind and Solar Facility. 10:00-11:00 Wind and Solar Tour 11:00-11:30 Wildflower/Nature Presentation 11:30-1:00 Wildflower Walk 2:00-3:00 Wind and Solar Tour 3:00-3:30 Wildflower/Nature Presentation 3:30-5:00 Wildflower Walk
X-ALT-DESC;FMTTYPE=text/html:Join us on a guided walk led by local native plant enthusiasts through the stunning array of wildflowers at the Wild Horse Wind and Solar Facility. 10:00-11:00 Wind and Solar Tour 11:00-11:30 Wildflower/Nature Presentation 11:30-1:00 Wildflower Walk 2:00-3:00 Wind and Solar Tour 3:00-3:30 Wildflower/Nature Presentation 3:30-5:00 Wildflower Walk
LOCATION:Wild Horse Wind and Solar Facility 25905 Vantage Highway Ellensburg WA
UID:e.40.11222
SEQUENCE:3
DTSTAMP:20260419T130641Z
URL:http://business.kittitascountychamber.com/events/details/wildflower-and-wind-power-walk-05-24-2014-11222
END:VEVENT

END:VCALENDAR
