BEGIN:VCALENDAR
VERSION:2.0
PRODID:-//ChamberMaster//Event Calendar 2.0//EN
METHOD:PUBLISH
X-PUBLISHED-TTL:P3D
REFRESH-INTERVAL:P3D
CALSCALE:GREGORIAN
BEGIN:VEVENT
DTSTART:20130607T150000Z
DTEND:20130610T030000Z
X-MICROSOFT-CDO-ALLDAYEVENT:FALSE
SUMMARY:Wind River's 10-Year Anniversary Open House
DESCRIPTION:June marks Wind River   Gift & Home D cor's tenth year of being in business! We would like you to come celebrate this milestone with us at our 10-Year Anniversary Open House\, June 7-9. Like past open houses\, this one promises savings\, festivity\, and fun   with 20% off full-priced merchandise store-wide\, drawings for four $50 gift cards\, and free appetizers and snacks. Come join us and help us celebrate our 10th year of being in business! At Wind River\, June 7-9. As always\, we will be open 8 AM to 8 PM all weekend long.
X-ALT-DESC;FMTTYPE=text/html:<p>\n	June marks Wind River &ndash\; Gift &amp\; Home D&eacute\;cor&rsquo\;s tenth year of being in business! We would like you to&nbsp\;come celebrate this milestone with us at our 10-Year Anniversary Open House\, June 7-9. Like past open houses\, this one promises savings\, festivity\, and fun &ndash\; with 20% off full-priced merchandise store-wide\, drawings for four $50 gift cards\, and free appetizers and snacks. Come join us and help us celebrate our 10th year of being in business! At Wind River\, June 7-9. As always\,&nbsp\;we will&nbsp\;be open 8 AM to 8 PM all weekend long.</p>\n
LOCATION:Wind River\, 1714 Canyon Road\, Ellensburg
UID:e.40.10328
SEQUENCE:3
DTSTAMP:20260420T064739Z
URL:http://business.kittitascountychamber.com/events/details/wind-river-s-10-year-anniversary-open-house-06-07-2013-10328
END:VEVENT

END:VCALENDAR
