BEGIN:VCALENDAR
VERSION:2.0
PRODID:-//ChamberMaster//Event Calendar 2.0//EN
METHOD:PUBLISH
X-PUBLISHED-TTL:P3D
REFRESH-INTERVAL:P3D
CALSCALE:GREGORIAN
BEGIN:VEVENT
DTSTART:20121130T160000Z
DTEND:20121203T040000Z
X-MICROSOFT-CDO-ALLDAYEVENT:FALSE
SUMMARY:Wind River's Holiday Open House
DESCRIPTION:Celebrate the holidays and save at Wind River's Holiday Open House November 30 - December 2.\n\n	Enjoy:\n\n	\n		20% off storewide*\n	\n		Drawings for 4 $50 gift cards\n	\n		Free cocoa and treats\n	\n		Holiday music\, festivities\, and fun\n\n\n	Stop by our annual event to find fun\, affordable gifts for everyone on your list. Stock up on everything you need for holiday entertaining\, including holiday decorations and ornaments\, great Northwest wines\, gourmet food\, and colorful dishware.\n\n	Don't miss this event for savings\, festivity\, and fun! Come to the Holiday Open House November 30th - December 2nd at Wind River\, on Canyon Road just off I-90. Open 8 AM to 8 PM daily.
X-ALT-DESC;FMTTYPE=text/html:<p>\n	Celebrate the holidays and save at Wind River&#39\;s Holiday Open House November 30 - December 2.</p>\n<p>\n	<span data-mce-style="font-family: comic sans ms\,sans-serif\; font-size: 10pt\;" style="font-family: comic sans ms\,sans-serif\; font-size: 10pt\;">Enjoy:</span></p>\n<ul>\n	<li>\n		20% off storewide*</li>\n	<li>\n		Drawings for 4 $50 gift cards</li>\n	<li>\n		Free cocoa and treats</li>\n	<li>\n		Holiday music\, festivities\, and fun</li>\n</ul>\n<p>\n	Stop by our annual event to find fun\, affordable gifts for everyone on your list. Stock up on everything you need for holiday entertaining\, including holiday decorations and ornaments\, great Northwest wines\, gourmet food\, and colorful dishware.</p>\n<p>\n	Don&#39\;t miss this event for savings\, festivity\, and fun! Come to the Holiday Open House November 30th - December 2nd at Wind River\, on Canyon Road just off I-90. Open 8 AM to 8 PM daily.</p>\n
LOCATION:Wind River Gifts & Home Decor 1714 Canyon Rd Ellensburg\, WA
UID:e.40.8448
SEQUENCE:3
DTSTAMP:20260420T182607Z
URL:http://business.kittitascountychamber.com/events/details/wind-river-s-holiday-open-house-11-30-2012-8448
END:VEVENT

END:VCALENDAR
