BEGIN:VCALENDAR
VERSION:2.0
PRODID:-//ChamberMaster//Event Calendar 2.0//EN
METHOD:PUBLISH
X-PUBLISHED-TTL:P3D
REFRESH-INTERVAL:P3D
CALSCALE:GREGORIAN
BEGIN:VEVENT
DTSTART:20131206T160000Z
DTEND:20131209T040000Z
X-MICROSOFT-CDO-ALLDAYEVENT:FALSE
SUMMARY:Wind River's Holiday Open House
DESCRIPTION:Celebrate the holidays and save at Wind River's Holiday Open House December 6-8. Stop by our annual event and enjoy 20% off storewide (excluding sale items)\, free hot cider and snacks\, and drawings for four $50 Wind River gift cards. Find fun\, affordable gifts for everyone on your list\, or let Wind River build a custom gift basket for you. Stock up on everything you need for holiday entertaining\, including holiday decorations and ornaments\, great Northwest wines\, gourmet food\, and colorful dishware. Don't miss this event for savings\, festivity\, and fun! Come to the Holiday Open House December 6-8 at Wind River\, on Canyon Road just off I-90. Open 8 AM to 8 PM daily.
X-ALT-DESC;FMTTYPE=text/html:<span style="font-size: medium\;"><span style="font-family: calibri\;">Celebrate the holidays and save at Wind River&#39\;s Holiday Open House December 6-8. Stop by our annual event and enjoy 20% off storewide (excluding sale items)\, free hot cider and snacks\, and drawings for four $50 Wind River gift cards. Find fun\, affordable gifts for everyone on your list\, or let Wind River build a custom gift basket for you. Stock up on everything you need for holiday entertaining\, including holiday decorations and ornaments\, great Northwest wines\, gourmet food\, and colorful dishware. Don&#39\;t miss this event for savings\, festivity\, and fun! Come to the Holiday Open House December&nbsp\;6-8 at Wind River\, on Canyon Road just off I-90. Open 8 AM to 8 PM daily.</span></span><br />\n
LOCATION:1714 Canyon Road\, Ellensburg
UID:e.40.10841
SEQUENCE:3
DTSTAMP:20260419T210802Z
URL:http://business.kittitascountychamber.com/events/details/wind-river-s-holiday-open-house-12-06-2013-10841
END:VEVENT

END:VCALENDAR
