BEGIN:VCALENDAR
VERSION:2.0
PRODID:-//ChamberMaster//Event Calendar 2.0//EN
METHOD:PUBLISH
X-PUBLISHED-TTL:P3D
REFRESH-INTERVAL:P3D
CALSCALE:GREGORIAN
BEGIN:VEVENT
DTSTART:20140502T150000Z
DTEND:20140505T030000Z
X-MICROSOFT-CDO-ALLDAYEVENT:FALSE
SUMMARY:Wind River's Spring Open House
DESCRIPTION:Say hello to spring and save at Wind River's Spring Open House May 2-4. Get 20% off regularly priced merchandise store-wide and enter to win one of four $50 gift cards\, plus enjoy free snacks and punch. Find fun\, affordable gifts for Mother's Day\, graduations\, or even shop early for Father's Day. Or get in the spirit for Ellensburg's Western Art Show by browsing our large selection of Western-themed books\, wall art\, figurines\, and other home decor. Don't miss your chance to save 20% at Wind River's Spring Open House May 2-4!
X-ALT-DESC;FMTTYPE=text/html:Say hello to spring and save at Wind River&#39\;s Spring Open House May 2-4. Get 20% off regularly priced merchandise store-wide and enter to win one of four $50 gift cards\, plus enjoy free snacks and punch. Find fun\, affordable gifts for Mother&#39\;s Day\, graduations\, or even shop early for Father&#39\;s Day. Or get in the spirit for Ellensburg&#39\;s Western Art Show by browsing our large selection of Western-themed books\, wall art\, figurines\, and other home decor. Don&#39\;t miss your chance to save 20% at Wind River&#39\;s Spring Open House May 2-4!
LOCATION:1714 Canyon Road\, Ellensburg
UID:e.40.11373
SEQUENCE:3
DTSTAMP:20260419T125310Z
URL:http://business.kittitascountychamber.com/events/details/wind-river-s-spring-open-house-05-02-2014-11373
END:VEVENT

END:VCALENDAR
