BEGIN:VCALENDAR
VERSION:2.0
PRODID:-//ChamberMaster//Event Calendar 2.0//EN
METHOD:PUBLISH
X-PUBLISHED-TTL:P3D
REFRESH-INTERVAL:P3D
CALSCALE:GREGORIAN
BEGIN:VEVENT
DTSTART:20140517T020000Z
DTEND:20140517T040000Z
X-MICROSOFT-CDO-ALLDAYEVENT:FALSE
SUMMARY:Wine Dinner at Canyon River Ranch
DESCRIPTION:An intimate dinner with Chef Patrick of Canyon River Grill and Mark Wysling of Parejas Cellars.\n\n\n\nParejas Cellars is a boutique winery located in the Yakima Valley.\n\n\n\nThe Dinner will consist of a 5 course meal\; each course will be carefully paired with wine from the wine selection of Parejas Cellars.\n\n\n\nReservations can be made at Canyon River Lodge\n\n(5090 933-2100\n\n\n\nTime: 7:00pm\n\n Price: $95 per guest plus tax
X-ALT-DESC;FMTTYPE=text/html:An intimate dinner with Chef Patrick of Canyon River Grill and Mark Wysling of Parejas&nbsp\;Cellars.<br />\n<br />\nParejas&nbsp\;Cellars is a boutique winery located in the Yakima Valley.<br />\n<br />\nThe Dinner will consist of a 5 course meal\; each course will be carefully paired with wine from the wine selection of Parejas&nbsp\;Cellars.<br />\n<br />\nReservations can be made at Canyon River Lodge<br />\n(5090 933-2100<br />\n<br />\nTime: 7:00pm<br />\n&#8203\;Price: $95 per guest plus tax&nbsp\;<br />\n&nbsp\;
LOCATION:Main Lodge at Canyon River Ranch
UID:e.40.11370
SEQUENCE:3
DTSTAMP:20260419T125857Z
URL:http://business.kittitascountychamber.com/events/details/wine-dinner-at-canyon-river-ranch-05-16-2014-11370
END:VEVENT

END:VCALENDAR
