BEGIN:VCALENDAR
VERSION:2.0
PRODID:-//ChamberMaster//Event Calendar 2.0//EN
METHOD:PUBLISH
X-PUBLISHED-TTL:P3D
REFRESH-INTERVAL:P3D
CALSCALE:GREGORIAN
BEGIN:VEVENT
DTSTART:20130831T210000Z
DTEND:20130901T000000Z
X-MICROSOFT-CDO-ALLDAYEVENT:FALSE
SUMMARY:Wine in the Pines 2013
DESCRIPTION:Join us as Northwest wineries\, breweries and distilleries come together to share special selections from their cellars. Complementing the drinks\, Washington's premier restaurants offer gourmet small bites!
X-ALT-DESC;FMTTYPE=text/html:Join us as Northwest wineries\, breweries and distilleries come together to share special selections from their cellars. Complementing the drinks\, Washington&#39\;s premier restaurants offer gourmet small bites!
LOCATION:Swiftwater Cellars 301 Rope Rider Drive\, Cle Elum Wa 98922
UID:e.40.10264
SEQUENCE:3
DTSTAMP:20260420T032933Z
URL:http://business.kittitascountychamber.com/events/details/wine-in-the-pines-2013-08-31-2013-10264
END:VEVENT

END:VCALENDAR
