BEGIN:VCALENDAR
VERSION:2.0
PRODID:-//ChamberMaster//Event Calendar 2.0//EN
METHOD:PUBLISH
X-PUBLISHED-TTL:P3D
REFRESH-INTERVAL:P3D
CALSCALE:GREGORIAN
BEGIN:VEVENT
DTSTART:20130727T210000Z
DTEND:20130728T020000Z
X-MICROSOFT-CDO-ALLDAYEVENT:FALSE
SUMMARY:Wine Tasting at Gallery One & Clymer
DESCRIPTION:Enjoy wine tasting at both Gallery One and the Clymer on Saturday afternoon while the venues are gearing up for their nightly shows. Featuring the Northwest's premium wines paired with specialty foods and wonderful artwork. Scripts are interchangeable at both locations.
X-ALT-DESC;FMTTYPE=text/html:Enjoy wine tasting at both Gallery One and the Clymer on Saturday afternoon while the venues are gearing up for their nightly shows. Featuring the Northwest&#39\;s premium wines paired with specialty foods and wonderful artwork. Scripts are interchangeable at both locations.
LOCATION:Gallery One Visual Arts Center - 408 N. Pearl St\, Ellensburg WA Clymer Gallery & Museum of Art - 416 N. Pearl St\, Ellensburg WA
UID:e.40.9198
SEQUENCE:3
DTSTAMP:20260420T050616Z
URL:http://business.kittitascountychamber.com/events/details/wine-tasting-at-gallery-one-clymer-07-27-2013-9198
END:VEVENT

END:VCALENDAR
