BEGIN:VCALENDAR
VERSION:2.0
PRODID:-//ChamberMaster//Event Calendar 2.0//EN
METHOD:PUBLISH
X-PUBLISHED-TTL:P3D
REFRESH-INTERVAL:P3D
CALSCALE:GREGORIAN
BEGIN:VEVENT
DTSTART:20250315T230000Z
DTEND:20250316T010000Z
X-MICROSOFT-CDO-ALLDAYEVENT:FALSE
SUMMARY:Winemaker’s Art Uncorked
DESCRIPTION:View a curated art display featuring stunning works painted by Siren Song Wines very own winemaker\, Kevin Brown. Each piece tells a story\, showcasing his passion for both winemaking and art. Delight in the vibrant colors and intricate details as you gain insight into the inspiration behind each canvas. This series is entitled: "Inspiration\," and it features portraits of artists\, musicians\, and scientists that have inspired the artist over the years.\n\nAs you explore the art\, indulge your palate with a Siren Song wine tasting.
X-ALT-DESC;FMTTYPE=text/html:<p id="yui_3_17_2_1_1741368270986_275" style="overflow-wrap: break-word\; color: rgb(112\, 112\, 112)\; font-family: &quot\;Roboto Condensed&quot\;\; font-size: 18px\; white-space-collapse: preserve\;">View a curated art display featuring stunning works painted by Siren Song Wines very own winemaker\, Kevin Brown. Each piece tells a story\, showcasing his passion for both winemaking and art. Delight in the vibrant colors and intricate details as you gain insight into the inspiration behind each canvas. This series is entitled: &ldquo\;Inspiration\,&rdquo\; and it features portraits of artists\, musicians\, and scientists that have inspired the artist over the years.</p>\n\n<p style="overflow-wrap: break-word\; color: rgb(112\, 112\, 112)\; font-family: &quot\;Roboto Condensed&quot\;\; font-size: 18px\; white-space-collapse: preserve\;">As you explore the art\, indulge your palate with a Siren Song wine tasting.</p>\n
LOCATION:Siren Song Vineyard Estate and Winery\, 635 South Lakeshore Road\, Chelan
UID:e.40.37618
SEQUENCE:3
DTSTAMP:20260426T021655Z
URL:http://business.kittitascountychamber.com/events/details/winemaker-s-art-uncorked-37618
END:VEVENT

END:VCALENDAR
