BEGIN:VCALENDAR
VERSION:2.0
PRODID:-//ChamberMaster//Event Calendar 2.0//EN
METHOD:PUBLISH
X-PUBLISHED-TTL:P3D
REFRESH-INTERVAL:P3D
CALSCALE:GREGORIAN
BEGIN:VEVENT
DTSTART:20130727T210000Z
DTEND:20130728T020000Z
X-MICROSOFT-CDO-ALLDAYEVENT:FALSE
SUMMARY:Winetasting at the Clymer during Jazz in Valley
DESCRIPTION:A Wine Tasting extrordinaire\, held in conjunction with Gallery One.  We give you a glass\, and up to 11 Vintners will be pouring.  Live music\, too!
X-ALT-DESC;FMTTYPE=text/html:A Wine Tasting extrordinaire\, held in conjunction with Gallery One.&nbsp\; We give you a glass\, and up to 11 Vintners will be pouring.&nbsp\; Live music\, too!<br />\n
LOCATION:Clymer Museum and Gallery 416 N. Pearl St. Ellensburg\, WA 98926
UID:e.40.10326
SEQUENCE:3
DTSTAMP:20260420T050615Z
URL:http://business.kittitascountychamber.com/events/details/winetasting-at-the-clymer-during-jazz-in-valley-07-27-2013-10326
END:VEVENT

END:VCALENDAR
