BEGIN:VCALENDAR
VERSION:2.0
PRODID:-//ChamberMaster//Event Calendar 2.0//EN
METHOD:PUBLISH
X-PUBLISHED-TTL:P3D
REFRESH-INTERVAL:P3D
CALSCALE:GREGORIAN
BEGIN:VEVENT
DTSTART:20131114T180000Z
DTEND:20131114T230000Z
X-MICROSOFT-CDO-ALLDAYEVENT:FALSE
SUMMARY:WinterFest Vendor Fair
DESCRIPTION:WinterFest Vendor Fair Thursday\, Nov 14\, 2013 10:00 am to 3:00 pm SURC ? Free Vendor booths\, free giveaways\, mini clinics\, music and possible job opportunities. Mission Ridge\, The Summit at Snoqualmie\, Mountain High Sports and many other organizations will be on hand with displays\, giveaways and information on their programs. 509-963-3537 ? outdoorpursuits@cwu.edu ? www.cwu.edu/opr
X-ALT-DESC;FMTTYPE=text/html:WinterFest Vendor Fair Thursday\, Nov 14\, 2013 10:00 am to 3:00 pm SURC ? Free Vendor booths\, free giveaways\, mini clinics\, music and possible job opportunities. Mission Ridge\, The Summit at Snoqualmie\, Mountain High Sports and many other organizations will be on hand with displays\, giveaways and information on their programs. 509-963-3537 ? outdoorpursuits@cwu.edu ? www.cwu.edu/opr
LOCATION:CWU Student Union and Recreation Center (SURC)
UID:e.40.10802
SEQUENCE:3
DTSTAMP:20260419T225230Z
URL:http://business.kittitascountychamber.com/events/details/winterfest-vendor-fair-11-14-2013-10802
END:VEVENT

END:VCALENDAR
