BEGIN:VCALENDAR
VERSION:2.0
PRODID:-//ChamberMaster//Event Calendar 2.0//EN
METHOD:PUBLISH
X-PUBLISHED-TTL:P3D
REFRESH-INTERVAL:P3D
CALSCALE:GREGORIAN
BEGIN:VEVENT
DTSTART;VALUE=DATE:20130119
DTEND;VALUE=DATE:20130120
TRANSP:TRANSPARENT
X-MICROSOFT-CDO-ALLDAYEVENT:TRUE
SUMMARY:Winterhop Brewfest
DESCRIPTION:Join us for the Annual Winterhop Brewfest!  Held the 3rd Saturday of each year\, sample microbrews from a variety of breweries in the northwest.  Sampling occurs at a variety of venues throughout the historic downtown corridor.  Tickets go on sale December 1st - and they go fast!  Just $30 each.  Hurry and get yours as this event always sells out early!
X-ALT-DESC;FMTTYPE=text/html:Join us for the Annual Winterhop Brewfest!&nbsp\; Held the 3rd Saturday of each year\, sample microbrews from a variety of breweries in the northwest.&nbsp\; Sampling occurs at a variety of venues throughout the historic downtown corridor.&nbsp\; Tickets go on sale December 1st - and they go fast!&nbsp\; Just $30 each.&nbsp\; Hurry and get yours as this event always sells out early!
LOCATION:Historic Downtown Ellensburg
UID:e.40.6665
SEQUENCE:3
DTSTAMP:20260420T164108Z
URL:http://business.kittitascountychamber.com/events/details/winterhop-brewfest-01-19-2013-6665
END:VEVENT

END:VCALENDAR
