BEGIN:VCALENDAR
VERSION:2.0
PRODID:-//ChamberMaster//Event Calendar 2.0//EN
METHOD:PUBLISH
X-PUBLISHED-TTL:P3D
REFRESH-INTERVAL:P3D
CALSCALE:GREGORIAN
BEGIN:VEVENT
DTSTART:20140301T210000Z
DTEND:20140301T230000Z
X-MICROSOFT-CDO-ALLDAYEVENT:FALSE
SUMMARY:Workshop: Know Thyself - Who Am I?
DESCRIPTION:WORKSHOP: KNOW THYSELF - WHO AM I?  presented by New Perspective Healing Center\n\n\n\n"To know oneself\, one must ask the question\, Who Am I?  By asking the question\, Who Am I? the JOURNEY of knowing thyself begins" ~ Karin Stanley\n\n\n\nIn this workshop you will meet others who are on their own quest to learn and know who they truly are. You will enter into the healing sanctuary and begin by releasing the day's activities through a guided meditation. This will prepare you for the next two hours\, setting your energy into the space of learning and experiencing that which comes from within self\, in order to discover Self.\n\n\n\nThe workshop itself will include 2-3 experiential meditation exercises. These exercises will be designed to gain access into your own personal soul journey on the topic of "Who Am I?"   Each participant will have the opportunity to share their own experiences and learn from other class participants. There will be time for open dialogue into the topic while providing information from other sources as well as my own story and experience into this important topic of "knowing thyself by asking the question\, "Who Am I?"  \n\n\n\nWhen: Saturday\, March 1\n\nTime: 1:00pm   3:00pm\n\nCost: $30 (cash or check)\n\nWhere: New Perspective Healing Center\, Suite 201: Upstairs in the 1888 Building on the corner of 5th and Pearl St. (next to the Dakota Caf ). Door to the upstairs is just to the left of the entrance into the Gifts of the Vine wine shop.  New Perspective Healing Center is just at the top of the stairs on the left.\n\n\n\nRSVP: Please RSVP for the workshop but walk-ins are welcome. \n\n\n\n\n\nFor addtional spiritual growth and learning you may also be interested in my Weekly Healing Meditation Classes.  Classes immediately following the workshop (Mondays and Wednesdays -see below or event calendar for full details) will be designed to continue to explore the topic from the workshop over the course of a few weeks enabling you to dive more deeply into various layers of each topic if you wish\, or you may jump right in at any time.  You may attend only the workshop\, or just some of the weekly classes\, or do it all at any given time. It's up to you.  All are welcome at any time.  Your new journey begins the day you decide.  I will hold new workshops about every 6 weeks. \n\n\n\n\n\nWEEKLY HEALING MEDITATION CLASSES\n\n\n\nWhen: Mondays and Wednesdays starting March 3rd and 5th\n\nTime: 6:00pm   7:15pm\n\nCost: $10 (cash or check)\n\nWhere: New Perspective Healing Center\, Suite 201 (see above)\n\nRSVP: No RSVP is required. Walk-ins are always welcome at any time and attendance to the workshops is NOT required to attend the weekly classes.\n\n\n\nFirst class topic will be exploring into the various layers of Knowing Thyself - Who Am I?\n\n\n\nMY MESSESGE TO YOU\n\nI bring forth spiritual teachings   those things in which I too have learned\, taught from the Divine within my own soul. Many teachings will resonate with you but you may not fully understand or know yet of its complexity\, nor its simplicity. I am here to bring old teachings but in a new way\, a way that is intended for this time. For it is time to know who it is you truly are. You must know this from the inside and then manifest it outward in your experience of being human. This is The Way. This has been the intent all along. I begin here\, as directed/guided by that which is the ALL\, the I Am. Come\, listen\, experience\, know. The time is NOW to begin the deep process of learning and knowing Thyself by asking the question\, Who Am I?\n\n\n\nKarin Stanley is a Spiritual Mentor and Transformative Healing Guide\, owner of New Perspective Healing Center\, LLC. Her work includes Spiritual Mentoring\, Spiritual Awakening Program\, Integrated Imagery Healing\, Energy-Sound Healing\, Distance Healing\, Couples & Relationship Healing\, Sexual and Physical Abuse Healing\, and Classes & Workshops.
X-ALT-DESC;FMTTYPE=text/html:<div class="text_exposed_root text_exposed" id="id_530a7fe68b5324197901343"><span class="userContent" data-ft="{&quot\;tn&quot\;:&quot\;K&quot\;}">WORKSHOP: KNOW THYSELF&nbsp\;- WHO AM I?&nbsp\; presented by New Perspective Healing Center<br />\n<br />\n&quot\;To know oneself\, one must ask the question\, Who Am I?&nbsp\; By&nbsp\;asking the question\, Who Am I? the&nbsp\;JOURNEY of knowing thyself begins&quot\; ~ Karin Stanley<br />\n<br />\nIn this workshop you will meet others who are on their own quest to learn and know who they truly are. You will enter into the healing sanctuary and begin by releasing the day&rsquo\;s activities through a guided meditation. This will prepare you for the next two hours\, setting your energy into the space of learning and experiencing that which comes from within self\, in order to discover Self.<br />\n<br />\nThe workshop itself will include 2-3 experiential meditation exercises. These exercises will be designed to gain access into your own personal soul journey on the topic of &ldquo\;Who Am I?&rdquo\; &nbsp\; Each participant will have the opportunity to share their own experiences and learn from other class participants. There will be time for open dialogue into the topic while providing information from other sources as well as my own story and experience into this important topic of &ldquo\;knowing thyself by asking the question\, &ldquo\;Who Am I?&rdquo\;&nbsp\;&nbsp\;<br />\n<br />\n<span class="text_exposed_show">When: Saturday\, March 1<br />\nTime: 1:00pm &ndash\; 3:00pm<br />\nCost: $30 (cash or check)<br />\nWhere: New Perspective Healing Center\, Suite 201: Upstairs in the 1888 Building on the corner of 5th and Pearl St. (next to the Dakota Caf&eacute\;). Door to the upstairs is just to the left of the&nbsp\;entrance into&nbsp\;the Gifts of the Vine wine shop.&nbsp\; New Perspective Healing&nbsp\;Center&nbsp\;is just at the top of the stairs on the left.<br />\n<br />\nRSVP: Please RSVP for the workshop but walk-ins are welcome.&nbsp\;<br />\n<br />\n<br />\nFor addtional spiritual growth and learning you may also be interested in my Weekly Healing Meditation Classes.&nbsp\; Classes immediately following the workshop (Mondays and Wednesdays -see below or&nbsp\;event calendar for full details) will be designed to continue to explore the topic from the workshop over the course of a few weeks enabling you to dive more deeply into&nbsp\;various layers of each&nbsp\;topic if you wish\, or you may jump right in at any time.&nbsp\;&nbsp\;You may attend only the workshop\, or just some of the weekly classes\, or do it all at any given time. It&rsquo\;s up to you.&nbsp\; All are welcome at any time.&nbsp\; Your new&nbsp\;journey begins the day you&nbsp\;decide.&nbsp\; I will hold new workshops about every 6 weeks.&nbsp\;<br />\n<br />\n<br />\nWEEKLY HEALING MEDITATION CLASSES<br />\n<br />\nWhen: Mondays and Wednesdays starting March 3rd and 5th<br />\nTime: 6:00pm &ndash\; 7:15pm<br />\nCost: $10 (cash or check)<br />\nWhere: New Perspective Healing Center\, Suite 201 (see above)<br />\nRSVP: No RSVP is required. Walk-ins are always welcome at any time and attendance to the workshops is NOT required to attend the weekly classes.<br />\n<br />\nFirst class topic will be exploring into the various layers of Knowing Thyself - Who Am I?<br />\n<br />\nMY MESSESGE TO YOU<br />\nI bring forth spiritual teachings &ndash\; those things in which I too have learned\, taught from the Divine within my own soul. Many teachings will resonate with you but you may not fully understand or know yet of its complexity\, nor its simplicity. I am here to bring old teachings but in a new way\, a way that is intended for this time. For it is time to know who it is you truly are. You must know this from the inside and then manifest it outward in your experience of being human. This is The Way. This has been the intent all along. I begin here\, as directed/guided by that which is the ALL\, the I Am. Come\, listen\, experience\, know. The time is NOW to begin the deep process of learning and knowing Thyself by asking the question\, Who Am I?</span></span><br />\n<br />\nKarin Stanley is a Spiritual Mentor and Transformative Healing Guide\, owner of New Perspective Healing Center\, LLC. Her work includes Spiritual Mentoring\, Spiritual Awakening Program\, Integrated Imagery Healing\, Energy-Sound Healing\, Distance Healing\, Couples &amp\; Relationship Healing\, Sexual and Physical Abuse Healing\, and Classes &amp\; Workshops.</div>\n
LOCATION:New Perspective Healing Center 421 North Pearl St.\, Suite 201 Ellensburg\, WA 98926 Upstairs 1888 Building (next to the Dakota Caf )
UID:e.40.11156
SEQUENCE:3
DTSTAMP:20260419T161013Z
URL:http://business.kittitascountychamber.com/events/details/workshop-know-thyself-who-am-i-03-01-2014-11156
END:VEVENT

END:VCALENDAR
