BEGIN:VCALENDAR
VERSION:2.0
PRODID:-//ChamberMaster//Event Calendar 2.0//EN
METHOD:PUBLISH
X-PUBLISHED-TTL:P3D
REFRESH-INTERVAL:P3D
CALSCALE:GREGORIAN
BEGIN:VEVENT
DTSTART:20130427T150000Z
DTEND:20130427T210000Z
X-MICROSOFT-CDO-ALLDAYEVENT:FALSE
SUMMARY:Yakima River Clean-up
DESCRIPTION:Explore one of the most exciting landscapes in Central Washington while participating in a longstanding CWU legacy. For the past 40 years\, hundreds of CWU students and community members have joined together to clean and protect the Yakima River Canyon. This year\, Yakima River Clean-Up expands upon the traditional litter removal project to include team-based activities such as canyon-wide trail restoration\, campsite renovation\, and ecosystem revitalization. Volunteers will receive a free t-shirt and will be fed lunch after the clean-up. Volunteers should meet at 8 a.m. on the SURC East Patio. For more information visit www.takeactioncwu.com.
X-ALT-DESC;FMTTYPE=text/html:Explore one of the most exciting landscapes in Central Washington while participating in a longstanding CWU legacy. For the past 40 years\, hundreds of CWU students and community members have joined together to clean and protect the Yakima River Canyon. This year\, Yakima River Clean-Up expands upon the traditional litter removal project to include team-based activities such as canyon-wide trail restoration\, campsite renovation\, and ecosystem revitalization. Volunteers will receive a free t-shirt and will be fed lunch after the clean-up. Volunteers should meet at 8 a.m. on the SURC East Patio. For more information visit www.takeactioncwu.com. 
LOCATION:Meet at SURC East Patio
UID:e.40.10123
SEQUENCE:3
DTSTAMP:20260420T100311Z
URL:http://business.kittitascountychamber.com/events/details/yakima-river-clean-up-04-27-2013-10123
END:VEVENT

END:VCALENDAR
