BEGIN:VCALENDAR
VERSION:2.0
PRODID:-//ChamberMaster//Event Calendar 2.0//EN
METHOD:PUBLISH
X-PUBLISHED-TTL:P3D
REFRESH-INTERVAL:P3D
CALSCALE:GREGORIAN
BEGIN:VEVENT
DTSTART:20131005T120000Z
DTEND:20131005T210000Z
X-MICROSOFT-CDO-ALLDAYEVENT:FALSE
SUMMARY:Yakima River Clean-up
DESCRIPTION:Oct. 5\n\n10 a.m.   2 p.m.\n\nMeet at SURC Pit\n\nFree and Open to everyone\n\n \n\nJoin the Center for Leadership and Community Engagement and float the Yakima River and enjoy the scenery\, remove litter along the way and clean up historic locations along the river float. Take part in one of Ellensburg's favorite pastimes and make a positive impact on the environment. Transportation\, equipment\, lunch and snacks will be provided for all volunteers. Check in will be in the SURC Pit.\n\n \n\nFor more information visit www.takeactioncwu.com or call 509-963-1524
X-ALT-DESC;FMTTYPE=text/html:Oct. 5<br />\n10 a.m. &ndash\; 2 p.m.<br />\nMeet at SURC Pit<br />\nFree and Open to everyone<br />\n&nbsp\;<br />\nJoin the Center for Leadership and Community Engagement and float the Yakima River and enjoy the scenery\, remove litter along the way and clean up historic locations along the river float. Take part in one of Ellensburg&rsquo\;s favorite pastimes and make a positive impact on the environment. Transportation\, equipment\, lunch and snacks will be provided for all volunteers. Check in will be in the SURC Pit.<br />\n&nbsp\;<br />\n<span style="font-family:times new roman\;">For more information visit </span><a href="http://www.takeactioncwu.com"><span style="font-family:times new roman\;">www.takeactioncwu.com</span></a><span style="font-family:times new roman\;"> or call 509-963-1524</span><br />\n
LOCATION:Ellensburg/Yakima River
UID:e.40.10677
SEQUENCE:3
DTSTAMP:20260420T003046Z
URL:http://business.kittitascountychamber.com/events/details/yakima-river-clean-up-10-05-2013-10677
END:VEVENT

END:VCALENDAR
