BEGIN:VCALENDAR
VERSION:2.0
PRODID:-//ChamberMaster//Event Calendar 2.0//EN
METHOD:PUBLISH
X-PUBLISHED-TTL:P3D
REFRESH-INTERVAL:P3D
CALSCALE:GREGORIAN
BEGIN:VEVENT
DTSTART;VALUE=DATE:20130601
DTEND;VALUE=DATE:20130603
TRANSP:TRANSPARENT
X-MICROSOFT-CDO-ALLDAYEVENT:TRUE
SUMMARY:Ye Olde County Faire
DESCRIPTION:Come and join in the fun the second Ye Olde County Faire...June 1 & 2. to be held at the Kittitas County Fairgrounds.\n\n\n\ncheck us out on Facebook to keep up with the latest!
X-ALT-DESC;FMTTYPE=text/html:Come and join in the fun the second Ye Olde County Faire...June 1 &amp\; 2. to be held at the Kittitas County Fairgrounds.<br />\n<br />\ncheck us out on Facebook to keep up with the latest!
LOCATION:Kittitas Valley Event Center (AKA Kittitas County Fairgrounds) 512 N. Poplar Ellensburg\, WA
UID:e.40.10146
SEQUENCE:3
DTSTAMP:20260420T064739Z
URL:http://business.kittitascountychamber.com/events/details/ye-olde-county-faire-06-01-2013-10146
END:VEVENT

END:VCALENDAR
