BEGIN:VCALENDAR
VERSION:2.0
PRODID:-//ChamberMaster//Event Calendar 2.0//EN
METHOD:PUBLISH
X-PUBLISHED-TTL:P3D
REFRESH-INTERVAL:P3D
CALSCALE:GREGORIAN
BEGIN:VEVENT
DTSTART:20140417T030000Z
DTEND:20140417T040000Z
X-MICROSOFT-CDO-ALLDAYEVENT:FALSE
SUMMARY:YouTube Comedy Series brings the laughs
DESCRIPTION:Campus Activities is going viral with its YouTube Comedy Series every Wednesday\, throughout the month of April and into the start of May\, beginning at 8 p.m. in the Student Union and Recreation (SURC) Pit. Admission is free and open to the public. Each night will feature a different them with two hours of the funniest YouTube videos. Themes include: April 16: Sports April 23: Animals April 30: Celebrities and music May 7: Throwback comedians and all time classics Students with suggestions for videos may post the link to the Campus Activities Facebook page. For more information contact Ashley Stubbs\, Campus Activities student programmer\, at 509-963-1450.
X-ALT-DESC;FMTTYPE=text/html:Campus Activities is going viral with its YouTube Comedy Series every Wednesday\, throughout the month of April and into the start of May\, beginning at 8 p.m. in the Student Union and Recreation (SURC) Pit. Admission is free and open to the public. Each night will feature a different them with two hours of the funniest YouTube videos. Themes include: April 16: Sports April 23: Animals April 30: Celebrities and music May 7: Throwback comedians and all time classics Students with suggestions for videos may post the link to the Campus Activities Facebook page. For more information contact Ashley Stubbs\, Campus Activities student programmer\, at 509-963-1450.
LOCATION:SURC Pit
UID:e.40.11342
SEQUENCE:3
DTSTAMP:20260419T143922Z
URL:http://business.kittitascountychamber.com/events/details/youtube-comedy-series-brings-the-laughs-04-16-2014-11342
END:VEVENT

END:VCALENDAR
