BEGIN:VCALENDAR
VERSION:2.0
PRODID:-//ChamberMaster//Event Calendar 2.0//EN
METHOD:PUBLISH
X-PUBLISHED-TTL:P3D
REFRESH-INTERVAL:P3D
CALSCALE:GREGORIAN
BEGIN:VEVENT
DTSTART:20130131T013000Z
DTEND:20130131T023000Z
X-MICROSOFT-CDO-ALLDAYEVENT:FALSE
SUMMARY:Yvonne Pepin-Wakefield
DESCRIPTION:A free lectured by Yvonne Pepin-Wakefield will be held at Gallery One Visual Arts Center on January 30\, 2013\, from 5:30 to 6:30 with discussion to follow. It is co-sponsored by Gallery One Visual Arts Center and CWU Dept. of Art. Pepin-Wakefield is author of: Suitcase Filled with Nails: Lessons Learned from Teaching Art in Kuwait. The lecture will cover her art and teaching while in Kuwait. She will also have her book for sale at the lecture.
X-ALT-DESC;FMTTYPE=text/html:A free lectured by Yvonne Pepin-Wakefield will be held at Gallery One Visual Arts Center on January 30\, 2013\, from 5:30 to 6:30 with discussion to follow. It is co-sponsored by Gallery One Visual Arts Center and CWU Dept. of Art. Pepin-Wakefield is author of: Suitcase Filled with Nails: Lessons Learned from Teaching Art in Kuwait. The lecture will cover her art and teaching while in Kuwait. She will also have her book for sale at the lecture.
LOCATION:Gallery One Visual Arts Center 408 N. Pearl St. Ellensburg\, WA
UID:e.40.9191
SEQUENCE:3
DTSTAMP:20260420T163938Z
URL:http://business.kittitascountychamber.com/events/details/yvonne-pepin-wakefield-01-30-2013-9191
END:VEVENT

END:VCALENDAR
